BEGIN:VCALENDAR
VERSION:2.0
PRODID:-//eventon.com NONSGML v1.0//EN
CALSCALE:GREGORIAN
METHOD:PUBLISH
BEGIN:VEVENT
UID:69e730ef57d71
DTSTAMP:20260421T081023Z
DTSTART:20240216T000000Z
DTEND:20240216T013000Z
LOCATION:
SUMMARY:Focus on Us: Changing the Narrative
DESCRIPTION:Focus on Us: Changing the NarrativeThursday\,  February 15 : 6p
 m : Events CenterAs part of the LPL special Black History Month programming
 \,  educator Dr. Harry Anderson will delve into the importance of teaching 
 Black history\,  why it should be celebrated beyond February\,  and the rea
 sons behind some people’s efforts to[..]\nhttps://mylpl.org/events/focus-
 on-us/
URL:https://mylpl.org/events/focus-on-us/
END:VEVENT
END:VCALENDAR