BEGIN:VCALENDAR
VERSION:2.0
PRODID:-//eventon.com NONSGML v1.0//EN
CALSCALE:GREGORIAN
METHOD:PUBLISH
BEGIN:VEVENT
UID:69e4dc6866605
DTSTAMP:20260419T134512Z
DTSTART:20250212T000000Z
DTEND:20250212T013000Z
LOCATION:Lincoln Parish Library 910 N Trenton St
SUMMARY:Feb Virtual Author Talks
DESCRIPTION:Check out these exciting virtual author talks we are offering i
 n February from the comfort of your couch.\nhttps://mylpl.org/events/feb-vi
 rtual-author-talks/
URL:https://mylpl.org/events/feb-virtual-author-talks/
END:VEVENT
END:VCALENDAR