BEGIN:VCALENDAR
VERSION:2.0
PRODID:-//eventon.com NONSGML v1.0//EN
CALSCALE:GREGORIAN
METHOD:PUBLISH
BEGIN:VEVENT
UID:69e733b4eae2d
DTSTAMP:20260421T082212Z
DTSTART:20250729T210000Z
DTEND:20250730T045900Z
LOCATION:Lincoln Parish Library 910 N Trenton St
SUMMARY:Ultimate Art Trivia
DESCRIPTION:Age: teens\nhttps://mylpl.org/events/ultimate-art-trivia/
URL:https://mylpl.org/events/ultimate-art-trivia/
END:VEVENT
END:VCALENDAR